BEGIN:VCALENDAR
VERSION:2.0
PRODID:-//Sophia Partners - ECPv6.15.20//NONSGML v1.0//EN
CALSCALE:GREGORIAN
METHOD:PUBLISH
X-WR-CALNAME:Sophia Partners
X-ORIGINAL-URL:https://www.sophiapartners.org
X-WR-CALDESC:Events for Sophia Partners
REFRESH-INTERVAL;VALUE=DURATION:PT1H
X-Robots-Tag:noindex
X-PUBLISHED-TTL:PT1H
BEGIN:VTIMEZONE
TZID:America/Chicago
BEGIN:DAYLIGHT
TZOFFSETFROM:-0600
TZOFFSETTO:-0500
TZNAME:CDT
DTSTART:20220313T080000
END:DAYLIGHT
BEGIN:STANDARD
TZOFFSETFROM:-0500
TZOFFSETTO:-0600
TZNAME:CST
DTSTART:20221106T070000
END:STANDARD
BEGIN:DAYLIGHT
TZOFFSETFROM:-0600
TZOFFSETTO:-0500
TZNAME:CDT
DTSTART:20230312T080000
END:DAYLIGHT
BEGIN:STANDARD
TZOFFSETFROM:-0500
TZOFFSETTO:-0600
TZNAME:CST
DTSTART:20231105T070000
END:STANDARD
BEGIN:DAYLIGHT
TZOFFSETFROM:-0600
TZOFFSETTO:-0500
TZNAME:CDT
DTSTART:20240310T080000
END:DAYLIGHT
BEGIN:STANDARD
TZOFFSETFROM:-0500
TZOFFSETTO:-0600
TZNAME:CST
DTSTART:20241103T070000
END:STANDARD
BEGIN:DAYLIGHT
TZOFFSETFROM:-0600
TZOFFSETTO:-0500
TZNAME:CDT
DTSTART:20250309T080000
END:DAYLIGHT
BEGIN:STANDARD
TZOFFSETFROM:-0500
TZOFFSETTO:-0600
TZNAME:CST
DTSTART:20251102T070000
END:STANDARD
BEGIN:DAYLIGHT
TZOFFSETFROM:-0600
TZOFFSETTO:-0500
TZNAME:CDT
DTSTART:20260308T080000
END:DAYLIGHT
BEGIN:STANDARD
TZOFFSETFROM:-0500
TZOFFSETTO:-0600
TZNAME:CST
DTSTART:20261101T070000
END:STANDARD
END:VTIMEZONE
BEGIN:VEVENT
DTSTART;VALUE=DATE:20250626
DTEND;VALUE=DATE:20250628
DTSTAMP:20260419T111126
CREATED:20250115T145845Z
LAST-MODIFIED:20250402T200024Z
UID:10000466-1750896000-1751068799@www.sophiapartners.org
SUMMARY:Conference on Servant Leadership at Viterbo University
DESCRIPTION:Attend the Conference on Servant Leadership at Viterbo University! \nFor the past 20+ years\, Viterbo University has held a Conference on Servant Leadership for individuals who aspire to be servant leaders in nonprofit organizations\, small and large businesses\, government\, health care\, ministry\, and education. \nJoin leaders from around the country for an engaging conference held at the Weber Center for the Performing Arts\, located on the banks of the beautiful Mississippi River in La Crosse\, Wisconsin. \nThe conference schedule will be announced soon. See website for full details and speakers list! \nEvent Details:\nDate: June 26-27\, 2025 \nLocation: Viterbo University\, Weber Center for the Performing Arts \n428 Front Street South La Crosse\, WI 54601 \nRegister Here! \nShare this article:
URL:https://www.sophiapartners.org/event/conference-on-servant-leadership-at-viterbo-university-2/
LOCATION:Viterbo University\, 428 Front Street South\, La Crosse\, WI\, 54601\, United States
CATEGORIES:Community Partner Events,In-person,Paid
ATTACH;FMTTYPE=image/png:https://www.sophiapartners.org/wp-content/uploads/2025/01/2025-conference-on-servant-leadership-cover.png
END:VEVENT
BEGIN:VEVENT
DTSTART;VALUE=DATE:20240627
DTEND;VALUE=DATE:20240629
DTSTAMP:20260419T111126
CREATED:20240105T203110Z
LAST-MODIFIED:20240105T203110Z
UID:10000361-1719446400-1719619199@www.sophiapartners.org
SUMMARY:Conference on Servant Leadership at Viterbo University
DESCRIPTION:Registration is now open for the Conference on Servant Leadership at Viterbo University! \nFor the past 20 years\, Viterbo University has held a Conference on Servant Leadership for individuals who aspire to be servant leaders in nonprofit organizations\, small and large businesses\, government\, health care\, ministry\, and education. \nThis year’s conference recognizes the importance of Servant Leadership being PROVEN – TRUSTED – EFFECTIVE. Join us for an engaging conference held at the Weber Center for the Performing Arts\, located on the banks of the beautiful Mississippi River in La Crosse\, Wisconsin. \nThe conference schedule will be announced soon. See website for full details and speakers list! \nEvent Details:\nDate: June 27-28\, 2024 \nLocation: Viterbo University\, Weber Center for the Performing Arts \n428 Front Street South La Crosse\, WI 54601 \nRegistration is required! \nShare this article:
URL:https://www.sophiapartners.org/event/conference-on-servant-leadership-at-viterbo-university/
LOCATION:Viterbo University\, 428 Front Street South\, La Crosse\, WI\, 54601\, United States
CATEGORIES:Community Partner Events
ATTACH;FMTTYPE=image/png:https://www.sophiapartners.org/wp-content/uploads/2024/01/viterbo24.png
END:VEVENT
BEGIN:VEVENT
DTSTART;VALUE=DATE:20230629
DTEND;VALUE=DATE:20230701
DTSTAMP:20260419T111126
CREATED:20230224T033108Z
LAST-MODIFIED:20230525T121902Z
UID:10000261-1687996800-1688169599@www.sophiapartners.org
SUMMARY:Conference on Servant Leadership at Viterbo University
DESCRIPTION:Registration is now open for the Conference on Servant Leadership at Viterbo University! \nFor the past 20 years\, Viterbo University has held a Conference on Servant Leadership for individuals who aspire to be servant leaders in nonprofit organizations\, small and large businesses\, government\, health care\, ministry\, and education. \nThis year’s conference recognizes the importance of Serving\, Leading\, and Growing both personally and professionally. Join us for an engaging conference held at the Weber Center for the Performing Arts\, located on the banks of the beautiful Mississippi River in La Crosse\, Wisconsin. \nThe conference schedule will be announced soon. See website for full details and speakers list! \nEvent Details:\nDate: June 29-30\, 2023 \nLocation: Viterbo University\, Weber Center for the Performing Arts \n428 Front Street South La Crosse\, WI 54601 \nRegistration is required! \nShare this article:
URL:https://www.sophiapartners.org/event/wisconsin-servant-leadership-conference-on-servant-leadership/
LOCATION:Viterbo University\, 428 Front Street South\, La Crosse\, WI\, 54601\, United States
CATEGORIES:Community Partner Events
ATTACH;FMTTYPE=image/jpeg:https://www.sophiapartners.org/wp-content/uploads/2023/02/Conference-Banner-2023.jpeg
END:VEVENT
END:VCALENDAR