BEGIN:VCALENDAR
VERSION:2.0
PRODID:-//Sophia Partners - ECPv6.15.20//NONSGML v1.0//EN
CALSCALE:GREGORIAN
METHOD:PUBLISH
X-ORIGINAL-URL:https://www.sophiapartners.org
X-WR-CALDESC:Events for Sophia Partners
REFRESH-INTERVAL;VALUE=DURATION:PT1H
X-Robots-Tag:noindex
X-PUBLISHED-TTL:PT1H
BEGIN:VTIMEZONE
TZID:America/Chicago
BEGIN:DAYLIGHT
TZOFFSETFROM:-0600
TZOFFSETTO:-0500
TZNAME:CDT
DTSTART:20250309T080000
END:DAYLIGHT
BEGIN:STANDARD
TZOFFSETFROM:-0500
TZOFFSETTO:-0600
TZNAME:CST
DTSTART:20251102T070000
END:STANDARD
BEGIN:DAYLIGHT
TZOFFSETFROM:-0600
TZOFFSETTO:-0500
TZNAME:CDT
DTSTART:20260308T080000
END:DAYLIGHT
BEGIN:STANDARD
TZOFFSETFROM:-0500
TZOFFSETTO:-0600
TZNAME:CST
DTSTART:20261101T070000
END:STANDARD
BEGIN:DAYLIGHT
TZOFFSETFROM:-0600
TZOFFSETTO:-0500
TZNAME:CDT
DTSTART:20270314T080000
END:DAYLIGHT
BEGIN:STANDARD
TZOFFSETFROM:-0500
TZOFFSETTO:-0600
TZNAME:CST
DTSTART:20271107T070000
END:STANDARD
END:VTIMEZONE
BEGIN:VEVENT
DTSTART;TZID=America/Chicago:20260225T083000
DTEND;TZID=America/Chicago:20260225T103000
DTSTAMP:20260425T094259
CREATED:20251028T161957Z
LAST-MODIFIED:20260128T164550Z
UID:10000517-1772008200-1772015400@www.sophiapartners.org
SUMMARY:FABOH Leadership Training
DESCRIPTION:Leadership Trainings are in partnership with the Fond du Lac Area Businesses on Health\, otherwise known as FABOH. Each leadership training workshop features a different topic and speaker to support employee engagement. \nThis series will provide quarterly training opportunities for all FABOH member employees but is aimed specifically at supervisors\, managers\, directors\, or any other employees who currently lead others within their organization or aspire to in the future. \nTrust Building: Leading Teams with Heart and Clarity \nStrengthen communication\, foster collaboration\, and create a culture where individuals and teams thrive. \nEffective leadership begins with strong relationships\, and at the heart of those relationships are trust and communication. This interactive workshop explores the essential skills leaders need to create environments where team members feel valued\, heard\, and empowered. Participants will examine strategies for building and maintaining trust\, navigating difficult conversations\, and communicating with clarity\, authenticity\, and impact. Through practical exercises\, real-world scenarios\, and reflective discussions\, leaders will leave with actionable tools to strengthen collaboration\, enhance team engagement\, and foster a culture of transparency and accountability within their organizations. \nBy the end of this workshop\, participants will be able to: \n\nUnderstand the role of trust in effective leadership and its impact on team culture and performance.\n\nDevelop practical communication strategies that build clarity\, transparency\, and connection with team members.\n\nApply techniques to foster psychological safety and encourage open dialogue and collaborative problem-solving.\n\nRecognize and address behaviors that erode trust and learn how to repair relationships when trust is broken.\nImplement actionable tools and exercises to strengthen team engagement\, cohesion\, and productivity.\n\nSpeaker: Christa Williams \nDate: Wednesday\, February 25\, 2026 \nTime: 8:30 am – 10:30 am \nLocation: Marian University – Stayer Center Dining Room \nPre-registration is required. FABOH members can attend the workshop for free. $60 for non-FABOH members to attend. Follow the link here.
URL:https://www.sophiapartners.org/event/faboh-leadership-training-5/
CATEGORIES:Community Partner Events,In-person,Paid
ATTACH;FMTTYPE=image/png:https://www.sophiapartners.org/wp-content/uploads/2023/01/FABOH2.png
END:VEVENT
END:VCALENDAR