BEGIN:VCALENDAR
VERSION:2.0
PRODID:-//Sophia Partners - ECPv6.15.20//NONSGML v1.0//EN
CALSCALE:GREGORIAN
METHOD:PUBLISH
X-WR-CALNAME:Sophia Partners
X-ORIGINAL-URL:https://www.sophiapartners.org
X-WR-CALDESC:Events for Sophia Partners
REFRESH-INTERVAL;VALUE=DURATION:PT1H
X-Robots-Tag:noindex
X-PUBLISHED-TTL:PT1H
BEGIN:VTIMEZONE
TZID:America/Chicago
BEGIN:DAYLIGHT
TZOFFSETFROM:-0600
TZOFFSETTO:-0500
TZNAME:CDT
DTSTART:20220313T080000
END:DAYLIGHT
BEGIN:STANDARD
TZOFFSETFROM:-0500
TZOFFSETTO:-0600
TZNAME:CST
DTSTART:20221106T070000
END:STANDARD
BEGIN:DAYLIGHT
TZOFFSETFROM:-0600
TZOFFSETTO:-0500
TZNAME:CDT
DTSTART:20230312T080000
END:DAYLIGHT
BEGIN:STANDARD
TZOFFSETFROM:-0500
TZOFFSETTO:-0600
TZNAME:CST
DTSTART:20231105T070000
END:STANDARD
BEGIN:DAYLIGHT
TZOFFSETFROM:-0600
TZOFFSETTO:-0500
TZNAME:CDT
DTSTART:20240310T080000
END:DAYLIGHT
BEGIN:STANDARD
TZOFFSETFROM:-0500
TZOFFSETTO:-0600
TZNAME:CST
DTSTART:20241103T070000
END:STANDARD
END:VTIMEZONE
BEGIN:VEVENT
DTSTART;TZID=America/Chicago:20230425T063000
DTEND;TZID=America/Chicago:20230425T073000
DTSTAMP:20260424T045340
CREATED:20230203T223012Z
LAST-MODIFIED:20230413T192935Z
UID:10000248-1682404200-1682407800@www.sophiapartners.org
SUMMARY:Servant Leadership Community of Practice
DESCRIPTION:This month’s topic: \nIntentionally Creating Employee Engagement through Servant Leadership\nThe goal of employee engagement is for an employee to feel emotionally committed to an organization and its goals.  \nHow do you do that? What steps can you take?  What if YOU are the one who is not engaged? \nIn this month’s Servant Leadership Community of Practice\, we will discuss how to intentionally create employee engagement through the practice of servant leadership.   \nThrough small and large group discussions with peers\, attendees will explore key learning lessons: \n\nWhat does employee engagement look like for you personally\, on your team\, in your organization?\nWhat do your one-on-one relationships look like?  How do you create a caring mindset (in self and others)\nRecognizing the gaps and opportunities for engagement.\n\nThis session will be facilitated by Sophia Partners Executive Director and Learning Facilitator\, Christa Williams. \n*The session will be recorded. \nRegistration is required for the Zoom link. Register here now! \nAbout this Conversation \nServant Leadership Community of Practice is a fully virtual offering for learning about your individual servant leadership strengths and learning new practices through small group discussion\, facilitated conversations\, and personal reflection. Bringing your lunch is encouraged! This event occurs on the fourth Tuesday of each month from 11:30 a.m. – 12:30 p.m. CST via Zoom. \nProgram Overview \nCommunity of Practice sessions are amazing opportunities for any and all area leaders to gather and learn from each other. Through these monthly sessions\, attendees build\, share\, and learn from others as a community of servant leaders. It’s highly interactive and each month a different servant leadership topic is explored. Learn more about the Community of Practice program here.
URL:https://www.sophiapartners.org/event/servant-leadership-community-of-practice-2/
ATTACH;FMTTYPE=image/png:https://www.sophiapartners.org/wp-content/uploads/2023/02/CoP-23-cover-1.png
END:VEVENT
END:VCALENDAR