BEGIN:VCALENDAR
VERSION:2.0
PRODID:-//Sophia Partners - ECPv6.15.20//NONSGML v1.0//EN
CALSCALE:GREGORIAN
METHOD:PUBLISH
X-ORIGINAL-URL:https://www.sophiapartners.org
X-WR-CALDESC:Events for Sophia Partners
REFRESH-INTERVAL;VALUE=DURATION:PT1H
X-Robots-Tag:noindex
X-PUBLISHED-TTL:PT1H
BEGIN:VTIMEZONE
TZID:America/Chicago
BEGIN:DAYLIGHT
TZOFFSETFROM:-0600
TZOFFSETTO:-0500
TZNAME:CDT
DTSTART:20220313T080000
END:DAYLIGHT
BEGIN:STANDARD
TZOFFSETFROM:-0500
TZOFFSETTO:-0600
TZNAME:CST
DTSTART:20221106T070000
END:STANDARD
BEGIN:DAYLIGHT
TZOFFSETFROM:-0600
TZOFFSETTO:-0500
TZNAME:CDT
DTSTART:20230312T080000
END:DAYLIGHT
BEGIN:STANDARD
TZOFFSETFROM:-0500
TZOFFSETTO:-0600
TZNAME:CST
DTSTART:20231105T070000
END:STANDARD
BEGIN:DAYLIGHT
TZOFFSETFROM:-0600
TZOFFSETTO:-0500
TZNAME:CDT
DTSTART:20240310T080000
END:DAYLIGHT
BEGIN:STANDARD
TZOFFSETFROM:-0500
TZOFFSETTO:-0600
TZNAME:CST
DTSTART:20241103T070000
END:STANDARD
END:VTIMEZONE
BEGIN:VEVENT
DTSTART;TZID=America/Chicago:20230328T063000
DTEND;TZID=America/Chicago:20230328T073000
DTSTAMP:20260422T095725
CREATED:20230203T222639Z
LAST-MODIFIED:20230223T013929Z
UID:10000247-1679985000-1679988600@www.sophiapartners.org
SUMMARY:Servant Leadership Community of Practice
DESCRIPTION:This month’s topic: \nExploring the Link between Servant Leadership and Employee Engagement\nFor more than 20 years employee engagement has been an organizational buzzword used to describe the level of commitment and productivity that employees bring to their work and workplace.   \nIn this month’s Servant Leadership Community of Practice\, we will discuss the practice of servant leadership in relationship to increased employee engagement in the workplace.   \nThrough small and large group discussions with peers\, attendees will explore key learning lessons: \n\nThe connection between Robert Greenleaf’s definition of servant leadership and research on employee engagement.  \nDoes servant leadership create employee engagement?\nThe differentiators of servant leadership that create employee engagement: Developing People\, Building a Trusting Team\, and Achieving Results\n\nThis session will be facilitated by Sophia Partners Executive Director and Learning Facilitator\, Christa Williams. \n*The session will be recorded. \nRegistration is required for the Zoom link. Register here now! \nAbout this Conversation \nServant Leadership Community of Practice is a fully virtual offering for learning about your individual servant leadership strengths and new practices through small group discussion\, facilitated conversations\, and personal reflection. Bringing your lunch is encouraged! This event occurs on the fourth Tuesday of each month from 11:30 a.m. – 12:30 p.m. CST via Zoom. \nProgram Overview \nCommunity of Practice sessions are amazing opportunities for any and all area leaders to gather and learn from each other. Through these monthly sessions\, attendees build\, share\, and learn from others as a community of servant leaders. It’s highly interactive and each month a different servant leadership topic is explored. Learn more about the Community of Practice program here.
URL:https://www.sophiapartners.org/event/servant-leadership-community-of-practice/
ATTACH;FMTTYPE=image/png:https://www.sophiapartners.org/wp-content/uploads/2023/02/CoP-23-cover-1.png
END:VEVENT
END:VCALENDAR