BEGIN:VCALENDAR
VERSION:2.0
PRODID:-//Sophia Partners - ECPv6.15.20//NONSGML v1.0//EN
CALSCALE:GREGORIAN
METHOD:PUBLISH
X-ORIGINAL-URL:https://www.sophiapartners.org
X-WR-CALDESC:Events for Sophia Partners
REFRESH-INTERVAL;VALUE=DURATION:PT1H
X-Robots-Tag:noindex
X-PUBLISHED-TTL:PT1H
BEGIN:VTIMEZONE
TZID:America/Chicago
BEGIN:DAYLIGHT
TZOFFSETFROM:-0600
TZOFFSETTO:-0500
TZNAME:CDT
DTSTART:20210314T080000
END:DAYLIGHT
BEGIN:STANDARD
TZOFFSETFROM:-0500
TZOFFSETTO:-0600
TZNAME:CST
DTSTART:20211107T070000
END:STANDARD
BEGIN:DAYLIGHT
TZOFFSETFROM:-0600
TZOFFSETTO:-0500
TZNAME:CDT
DTSTART:20220313T080000
END:DAYLIGHT
BEGIN:STANDARD
TZOFFSETFROM:-0500
TZOFFSETTO:-0600
TZNAME:CST
DTSTART:20221106T070000
END:STANDARD
BEGIN:DAYLIGHT
TZOFFSETFROM:-0600
TZOFFSETTO:-0500
TZNAME:CDT
DTSTART:20230312T080000
END:DAYLIGHT
BEGIN:STANDARD
TZOFFSETFROM:-0500
TZOFFSETTO:-0600
TZNAME:CST
DTSTART:20231105T070000
END:STANDARD
END:VTIMEZONE
BEGIN:VEVENT
DTSTART;TZID=America/Chicago:20221025T063000
DTEND;TZID=America/Chicago:20221025T073000
DTSTAMP:20260424T105211
CREATED:20211214T015843Z
LAST-MODIFIED:20221015T000436Z
UID:10000189-1666679400-1666683000@www.sophiapartners.org
SUMMARY:Leaders Do Lunch: Community of Practice
DESCRIPTION:This month’s topic:\nBurn Ladders. Build Bridges. featuring author Alan Patterson\n\nYou have advanced in your career over the years – and continue to invest your time and talent to be the kind of leader who connects and engages… \n…But even on your best days\, all the requests\, conversations\, meetings\, emails\, and tasks remaining can feel like a whirlwind. \nHow do you avoid burnout and stay connected to your intrinsic motivation? And – as a leader who cares deeply about their team – how do you balance empowering these individuals to actively take control of their career growth and leadership development. \nBurn ladders. Build Bridges. \nWe’ll be guided by author\, Alan Patterson\, and Sophia board member/Ladderburner collaborator\, Jenny Knuth\, to explore the games played at work and redefine success. No matter where you are in your career\, we’ll look at the essential stepping stones to building credibility and showing up as a leader who creates ripples of impact for others while finding deep meaning and purpose for oneself. \n\nRegistration is required for the Zoom link. Register is now open here! \nAbout this Conversation \nLeaders Do Lunch is a fully virtual offering for learning about your individual servant leadership strengths and learning new practices through small group discussion\, facilitated conversations\, and personal reflection where bringing your lunch is encouraged. This event happens on the fourth Tuesday of each month from 11:30 a.m. – 12:30 p.m. CST via Zoom. \nProgram Overview \nCommunity of Practice sessions are amazing opportunities for any and all area leaders to gather and learn from each other. Through these monthly sessions\, attendees build\, share\, and learn from others as a community of servant leaders. It’s highly interactive and each month a different servant leadership topic is explored. The same topic is covered during both sessions monthly (Coffee & Conversation and Leaders Do Lunch). Learn more about the Community of Practice program here.
URL:https://www.sophiapartners.org/event/leaders-do-lunch-community-of-practice-2022-10/
LOCATION:Online
ATTACH;FMTTYPE=image/png:https://www.sophiapartners.org/wp-content/uploads/2021/12/COP-Lunch-FB-event-cover-1.png
END:VEVENT
END:VCALENDAR