BEGIN:VCALENDAR
VERSION:2.0
PRODID:-//Sophia Partners - ECPv6.15.20//NONSGML v1.0//EN
CALSCALE:GREGORIAN
METHOD:PUBLISH
X-ORIGINAL-URL:https://www.sophiapartners.org
X-WR-CALDESC:Events for Sophia Partners
REFRESH-INTERVAL;VALUE=DURATION:PT1H
X-Robots-Tag:noindex
X-PUBLISHED-TTL:PT1H
BEGIN:VTIMEZONE
TZID:America/Chicago
BEGIN:DAYLIGHT
TZOFFSETFROM:-0600
TZOFFSETTO:-0500
TZNAME:CDT
DTSTART:20220313T080000
END:DAYLIGHT
BEGIN:STANDARD
TZOFFSETFROM:-0500
TZOFFSETTO:-0600
TZNAME:CST
DTSTART:20221106T070000
END:STANDARD
BEGIN:DAYLIGHT
TZOFFSETFROM:-0600
TZOFFSETTO:-0500
TZNAME:CDT
DTSTART:20230312T080000
END:DAYLIGHT
BEGIN:STANDARD
TZOFFSETFROM:-0500
TZOFFSETTO:-0600
TZNAME:CST
DTSTART:20231105T070000
END:STANDARD
BEGIN:DAYLIGHT
TZOFFSETFROM:-0600
TZOFFSETTO:-0500
TZNAME:CDT
DTSTART:20240310T080000
END:DAYLIGHT
BEGIN:STANDARD
TZOFFSETFROM:-0500
TZOFFSETTO:-0600
TZNAME:CST
DTSTART:20241103T070000
END:STANDARD
END:VTIMEZONE
BEGIN:VEVENT
DTSTART;TZID=America/Chicago:20230509T033000
DTEND;TZID=America/Chicago:20230509T050000
DTSTAMP:20260422T064447
CREATED:20230211T003604Z
LAST-MODIFIED:20230616T152733Z
UID:10000246-1683603000-1683608400@www.sophiapartners.org
SUMMARY:Servant Leadership 101
DESCRIPTION:What is servant leadership? \nThrough this workshop\, individuals will be taught insight and leadership practices that are focused on leading by bringing out the best in self and others. It is tailored to help prepare anyone to have a better understanding of servant leadership and communication skills and deepen their ability to build trusting relationships with others in teams\, organizations and communities. \nServant Leadership 101 is working with Fond du Lac Area Businesses on Health (FABOH) to provide this learning opportunity to FABOH members and non-members alike. \nEvent Details:\nSpeaker: Christa Williams\, Executive Director of Sophia Transformative Leadership Partners \nDate: Tuesday\, May 9\, 2023 \nTime: 8:30 – 10:00 a.m. \nLocation: Marian University – Stayer Center \nRegistration Details:\nFABOH members can attend the workshop for free. For non-FABOH members\, the workshop is $60/participant. Once completed\, an invoice will be sent to your email. \nThis workshop can be attended individually or as part of the in-person Servant-Leader Essentials series. To register\, complete the online registration form. \nQuestions:\nEmail: hello@sophiapartners.org or call: 920.375.1488. \nEmail: office@faboh.com or call: 920.924.3780.
URL:https://www.sophiapartners.org/event/servant-leadership-101/
LOCATION:Marian University\, 45 S National Ave\, Fond du Lac\, WI\, 54935\, United States
CATEGORIES:Community Partner Events,In-person,Paid
ATTACH;FMTTYPE=image/png:https://www.sophiapartners.org/wp-content/uploads/2023/02/FABOH-Social-Post-e1676061650787.png
END:VEVENT
BEGIN:VEVENT
DTSTART;TZID=America/Chicago:20230519T040000
DTEND;TZID=America/Chicago:20230519T060000
DTSTAMP:20260422T064447
CREATED:20230301T035858Z
LAST-MODIFIED:20230517T024433Z
UID:10000263-1684468800-1684476000@www.sophiapartners.org
SUMMARY:Servant Leadership Learning Community: Session 2
DESCRIPTION:~ A community of individuals and organizations who are committed to servant leadership ~ \nThe Servant Leadership Learning Community (SLLC) is an evolution of the Dallas SLLC. For more than twelve years\, SLLC participants have found information and insight from featured speakers and in peer-to-peer conversations within the learning community framework to build and strengthen servant leadership cultures in workplaces. \nAuthentic conversations within the sessions are facilitated by SLLC Program Partners\, Christa Williams of Sophia Partners\, and Matthew Kosec of Matthew Kosec Consulting\, LLC. \nEvent Details:\nTime: 9:00 AM – 11:00 AM (Central Time) via Zoom \nDate: Friday\, May 19\, 2023 \nSpeaker: Kristin Steede\, AVP of Learning & Development\, Verve\, a Credit Union \nCommitment: Three 2-hour virtual sessions\, plus an in-person session at a location TBD by each SLLC geographic area (Fond du Lac\, WI or Dallas\, TX). \nProgram Pricing:\n\n$1\,000 For-Profit Organizational Membership (4 seats per meeting)\n$750 Non-Profit Organizational Membership (4 seats per meeting)\n$250 Individual Membership (1 seat per meeting)\n\nRegistration process: Complete the online registration. Pre-registration must be completed before the first session on March 24\, 2023.
URL:https://www.sophiapartners.org/event/servant-leadership-learning-community-session-2/
CATEGORIES:Paid,Virtual
ATTACH;FMTTYPE=image/png:https://www.sophiapartners.org/wp-content/uploads/2023/02/SLLC-event-cover.png
END:VEVENT
BEGIN:VEVENT
DTSTART;TZID=America/Chicago:20230523T030000
DTEND;TZID=America/Chicago:20230523T050000
DTSTAMP:20260422T064447
CREATED:20230419T194250Z
LAST-MODIFIED:20230517T182816Z
UID:10000266-1684810800-1684818000@www.sophiapartners.org
SUMMARY:To Be or Not To Be…on a Nonprofit Board
DESCRIPTION:Young Professionals of Fond du Lac (YPF) invites Christa Williams\, Executive Director of Sophia Partners\, to present\, “To Be or Not To Be…on a Nonprofit Board.” \nNonprofit boards are essential to creating thriving caring communities for all people. Board members provide passion\, vision\, skills\, leadership\, and action to meaningful causes that would otherwise not be provided. Essentially they need you!   \nEvent Details:\nDate: Tuesday\, May 23\, 2023 \nTime: 8:00-10:00 AM \nLocation: Society Insurance\, 150 Camelot Dr Fond du Lac\, WI 54936 \nIn this session\, we will discuss: \n\nAligning passion with serving. \nThe legalities of serving on a nonprofit board.\nYou have been asked to be on a board\, what questions should you ask?  \nYou have heard that serving on a nonprofit board is a good way to give back. What do boards need the most from you?\nUnderstand “lane” of board member\, Executive Director\, executive committee\, and committee member.\n\n\nRegistration Details:\nClick HERE for full event details. Pre-registration is required. The pricing structure is below: \n\n\n\nYPF member: $15\nSHRM member: $20\nGeneral Admission: $25\n\nYPF is a program of Envision Greater Fond du Lac. For additional information visit www.envisiongreaterfdl.com\, call 920.921.9500\, or email ypf@envisiongreaterfdl.com.
URL:https://www.sophiapartners.org/event/to-be-or-not-to-beon-a-nonprofit-board/
LOCATION:Society Insurance\, 150 Camelot Drive\, Fond du Lac\, WI\, 54936\, United States
CATEGORIES:Community Partner Events,In-person,Paid
ATTACH;FMTTYPE=image/png:https://www.sophiapartners.org/wp-content/uploads/2023/04/ypf.png
END:VEVENT
BEGIN:VEVENT
DTSTART;TZID=America/Chicago:20230523T063000
DTEND;TZID=America/Chicago:20230523T073000
DTSTAMP:20260422T064447
CREATED:20230203T223309Z
LAST-MODIFIED:20230511T201806Z
UID:10000249-1684823400-1684827000@www.sophiapartners.org
SUMMARY:Servant Leadership Community of Practice
DESCRIPTION:This month’s topic:  \nDeep Listening = Servant Leadership\nAs leaders\, we are constantly listening. Are we hearing? There are voices inside and outside our bodies demanding attention. Robert Greenleaf asks\, “Why is there so little listening?”  \n“Listen\, listen this wonderful sound brings me back to my true self.” – Thich Nhat Hanh \nListening is a disposition that leads us on an unanticipated journey of learning and leadership. The deeper you listen\, the more aligned the experience with another. \nIn this month’s Servant Leadership Community of Practice\, participants will: \n\nTap into the power and potential of wholistic listening.\nUse listening as a means of weaving together relationships\, understanding\, and experiences.\nCreate a practical set of goals that lends itself to deep listening. \n\nOur featured speaker and learning facilitator is Vicki Wuolle\, CSA\, Sister of St. Agnes and Co-Creator of Thresholds Facilitating\, Coaching & Consulting. \n*The session will be recorded. \nRegistration is required for the Zoom link. Register here now! \nAbout this Conversation \nServant Leadership Community of Practice is a fully virtual offering for learning about your individual servant leadership strengths and learning new practices through small group discussion\, facilitated conversations\, and personal reflection. Bringing your lunch is encouraged! This event occurs on the fourth Tuesday of each month from 11:30 a.m. – 12:30 p.m. CST via Zoom. \nProgram Overview \nCommunity of Practice sessions are amazing opportunities for any and all area leaders to gather and learn from each other. Through these monthly sessions\, attendees build\, share\, and learn from others as a community of servant leaders. It’s highly interactive and each month a different servant leadership topic is explored. Learn more about the Community of Practice program here.
URL:https://www.sophiapartners.org/event/servant-leadership-community-of-practice-3/
CATEGORIES:Free,Virtual
ATTACH;FMTTYPE=image/png:https://www.sophiapartners.org/wp-content/uploads/2023/02/CoP-23-cover-1.png
END:VEVENT
END:VCALENDAR