BEGIN:VCALENDAR
VERSION:2.0
PRODID:-//Sophia Partners - ECPv6.15.20//NONSGML v1.0//EN
CALSCALE:GREGORIAN
METHOD:PUBLISH
X-ORIGINAL-URL:https://www.sophiapartners.org
X-WR-CALDESC:Events for Sophia Partners
REFRESH-INTERVAL;VALUE=DURATION:PT1H
X-Robots-Tag:noindex
X-PUBLISHED-TTL:PT1H
BEGIN:VTIMEZONE
TZID:America/Chicago
BEGIN:DAYLIGHT
TZOFFSETFROM:-0600
TZOFFSETTO:-0500
TZNAME:CDT
DTSTART:20250309T080000
END:DAYLIGHT
BEGIN:STANDARD
TZOFFSETFROM:-0500
TZOFFSETTO:-0600
TZNAME:CST
DTSTART:20251102T070000
END:STANDARD
BEGIN:DAYLIGHT
TZOFFSETFROM:-0600
TZOFFSETTO:-0500
TZNAME:CDT
DTSTART:20260308T080000
END:DAYLIGHT
BEGIN:STANDARD
TZOFFSETFROM:-0500
TZOFFSETTO:-0600
TZNAME:CST
DTSTART:20261101T070000
END:STANDARD
BEGIN:DAYLIGHT
TZOFFSETFROM:-0600
TZOFFSETTO:-0500
TZNAME:CDT
DTSTART:20270314T080000
END:DAYLIGHT
BEGIN:STANDARD
TZOFFSETFROM:-0500
TZOFFSETTO:-0600
TZNAME:CST
DTSTART:20271107T070000
END:STANDARD
BEGIN:DAYLIGHT
TZOFFSETFROM:-0600
TZOFFSETTO:-0500
TZNAME:CDT
DTSTART:20280312T080000
END:DAYLIGHT
BEGIN:STANDARD
TZOFFSETFROM:-0500
TZOFFSETTO:-0600
TZNAME:CST
DTSTART:20281105T070000
END:STANDARD
END:VTIMEZONE
BEGIN:VEVENT
DTSTART;TZID=America/Chicago:20260710T090000
DTEND;TZID=America/Chicago:20260710T110000
DTSTAMP:20260419T143634
CREATED:20260325T152019Z
LAST-MODIFIED:20260325T152019Z
UID:10000530-1783674000-1783681200@www.sophiapartners.org
SUMMARY:Servant Leadership Learning Community: Session 2
DESCRIPTION:What began as a small group of leaders enjoying a home-baked casserole in Dr. Ann McGee-Cooper’s Dallas Treehouse has now grown into a diverse variety of practitioners of servant leadership. \nWhat hasn’t changed in 26 years is the Vision of SLLC© \nWe aspire to practice and improve our collective skills as a learning community centered on servant leadership. We desire to increase our ability to co-create a future based on relationships of trust and respect as well as a triple bottom line that includes both tangible and intangible benefits for our Employees\, Customers\, Community\, and World. \nRegister here and learn more at matthewkosec.com/sllc.\n\nThree virtual meetings\, two-hours in length on Friday mornings\, that include a guest speaker\, servant leadership focused learning\, and dialogue with fellow Members.\nA half-day\, in-person meeting in Dallas\, TX\, featuring a deeper dive into servant leadership through dialogue and collaboration with fellow Members.\nWe’re excited to announce two new additions to the SLLC offerings: SLLC Table Talk Gatherings and Read Before You Lead Book Club! See the registration page for more details.\n\nEvent Details:\nTime: 9:00 AM – 11:00 AM (Central Time) via Zoom \nDate: Friday\, July 10\, 2026 \nSpeaker: Howard Behar\, Retired President\, Starbucks Coffee & Author\, “It’s Not About the Coffee”
URL:https://www.sophiapartners.org/event/servant-leadership-learning-community-session-2-3/
CATEGORIES:Community Partner Events,Virtual
ATTACH;FMTTYPE=image/avif:https://www.sophiapartners.org/wp-content/uploads/2026/03/SLLC-LOGO-DRAFTS-1_edited.avif
END:VEVENT
BEGIN:VEVENT
DTSTART;TZID=America/Chicago:20260815T120000
DTEND;TZID=America/Chicago:20260815T140000
DTSTAMP:20260419T143634
CREATED:20260312T134521Z
LAST-MODIFIED:20260312T134521Z
UID:10000527-1786795200-1786802400@www.sophiapartners.org
SUMMARY:Speaking Engagement
DESCRIPTION:This event is not open to the public.
URL:https://www.sophiapartners.org/event/speaking-engagement-7/
CATEGORIES:Community Partner Events
END:VEVENT
BEGIN:VEVENT
DTSTART;TZID=America/Chicago:20260918T070000
DTEND;TZID=America/Chicago:20260918T130000
DTSTAMP:20260419T143634
CREATED:20251007T164825Z
LAST-MODIFIED:20251007T164825Z
UID:10000516-1789714800-1789736400@www.sophiapartners.org
SUMMARY:Speaking Engagement
DESCRIPTION:This event is not open to the public.
URL:https://www.sophiapartners.org/event/speaking-engagement-4/
CATEGORIES:Community Partner Events
END:VEVENT
BEGIN:VEVENT
DTSTART;TZID=America/Chicago:20260925T090000
DTEND;TZID=America/Chicago:20260925T110000
DTSTAMP:20260419T143634
CREATED:20260325T152148Z
LAST-MODIFIED:20260325T152148Z
UID:10000531-1790326800-1790334000@www.sophiapartners.org
SUMMARY:Servant Leadership Learning Community: Session 3
DESCRIPTION:What began as a small group of leaders enjoying a home-baked casserole in Dr. Ann McGee-Cooper’s Dallas Treehouse has now grown into a diverse variety of practitioners of servant leadership. \nWhat hasn’t changed in 26 years is the Vision of SLLC© \nWe aspire to practice and improve our collective skills as a learning community centered on servant leadership. We desire to increase our ability to co-create a future based on relationships of trust and respect as well as a triple bottom line that includes both tangible and intangible benefits for our Employees\, Customers\, Community\, and World. \nRegister here and learn more at matthewkosec.com/sllc.\n\nThree virtual meetings\, two-hours in length on Friday mornings\, that include a guest speaker\, servant leadership focused learning\, and dialogue with fellow Members.\nA half-day\, in-person meeting in Dallas\, TX\, featuring a deeper dive into servant leadership through dialogue and collaboration with fellow Members.\nWe’re excited to announce two new additions to the SLLC offerings: SLLC Table Talk Gatherings and Read Before You Lead Book Club! See the registration page for more details.\n\nEvent Details:\nTime: 9:00 AM – 11:00 AM (Central Time) via Zoom \nDate: Friday\, September 25\, 2026 \nSpeaker: TBD
URL:https://www.sophiapartners.org/event/servant-leadership-learning-community-session-3-3/
CATEGORIES:Community Partner Events,Virtual
ATTACH;FMTTYPE=image/avif:https://www.sophiapartners.org/wp-content/uploads/2026/03/SLLC-LOGO-DRAFTS-1_edited.avif
END:VEVENT
BEGIN:VEVENT
DTSTART;TZID=America/Chicago:20270310T080000
DTEND;TZID=America/Chicago:20270310T170000
DTSTAMP:20260419T143634
CREATED:20240126T223120Z
LAST-MODIFIED:20250304T042442Z
UID:10000368-1804665600-1804698000@www.sophiapartners.org
SUMMARY:Test Event
DESCRIPTION:
URL:https://www.sophiapartners.org/event/test-event/
LOCATION:Fond du Lac Airport\, 260 S. Rolling Meadows Drive\, Fond du Lac\, WI\, 54935\, United States
END:VEVENT
END:VCALENDAR