BEGIN:VCALENDAR
VERSION:2.0
PRODID:-//Sophia Partners - ECPv6.15.20//NONSGML v1.0//EN
CALSCALE:GREGORIAN
METHOD:PUBLISH
X-WR-CALNAME:Sophia Partners
X-ORIGINAL-URL:https://www.sophiapartners.org
X-WR-CALDESC:Events for Sophia Partners
REFRESH-INTERVAL;VALUE=DURATION:PT1H
X-Robots-Tag:noindex
X-PUBLISHED-TTL:PT1H
BEGIN:VTIMEZONE
TZID:America/Chicago
BEGIN:DAYLIGHT
TZOFFSETFROM:-0600
TZOFFSETTO:-0500
TZNAME:CDT
DTSTART:20180311T080000
END:DAYLIGHT
BEGIN:STANDARD
TZOFFSETFROM:-0500
TZOFFSETTO:-0600
TZNAME:CST
DTSTART:20181104T070000
END:STANDARD
BEGIN:DAYLIGHT
TZOFFSETFROM:-0600
TZOFFSETTO:-0500
TZNAME:CDT
DTSTART:20190310T080000
END:DAYLIGHT
BEGIN:STANDARD
TZOFFSETFROM:-0500
TZOFFSETTO:-0600
TZNAME:CST
DTSTART:20191103T070000
END:STANDARD
BEGIN:DAYLIGHT
TZOFFSETFROM:-0600
TZOFFSETTO:-0500
TZNAME:CDT
DTSTART:20200308T080000
END:DAYLIGHT
BEGIN:STANDARD
TZOFFSETFROM:-0500
TZOFFSETTO:-0600
TZNAME:CST
DTSTART:20201101T070000
END:STANDARD
BEGIN:DAYLIGHT
TZOFFSETFROM:-0600
TZOFFSETTO:-0500
TZNAME:CDT
DTSTART:20210314T080000
END:DAYLIGHT
BEGIN:STANDARD
TZOFFSETFROM:-0500
TZOFFSETTO:-0600
TZNAME:CST
DTSTART:20211107T070000
END:STANDARD
END:VTIMEZONE
BEGIN:VEVENT
DTSTART;TZID=America/Chicago:20200417T023000
DTEND;TZID=America/Chicago:20200417T033000
DTSTAMP:20260420T201539
CREATED:20200103T030237Z
LAST-MODIFIED:20200414T185536Z
UID:10000152-1587090600-1587094200@www.sophiapartners.org
SUMMARY:Coffee + Conversation (ONLINE)
DESCRIPTION:April Learning Conversation: Servant Leadership & Conflict Resolution\nIt doesn’t matter if people are working in the same physical space or online\, misunderstandings\, unmet expectations\, and conflicts between co-workers exist on teams and in workplaces – EVERYWHERE. \nThere is a solution…crucial conversations!    \nOur learning and conversation this month will focus on what servant leaders do to support people to work together better by having crucial conversations. \n\nWhat is a crucial conversation?\nWhy having a crucial conversation is important.\nSetting the conditions and environment.\nHow to use the SBR model.\n\nSue Roettger\, Sophia board member and recently retired Vice-President of Human Resources at Mid-States Aluminum\, will be our guest facilitator.  In addition to corporate HR\, Sue’s background includes conflict resolution between youth and families as an advocate for runaways.\n\n\n\n\n\n\n\n\n\n\n\n\n\n\nSophia has chosen to use Zoom as the online platform for its monthly servant leadership conversations.  To maintain the security of the meetings\, it is important to RSVP to hello@sophiapartners.org.  An email will be sent to all participants with a meeting link and log in information.  A call-in option is also available.  Before joining a Zoom meeting on a computer or mobile device\, you can download the Zoom app. Otherwise\, you will be prompted to download and install Zoom when you click a join link. 
URL:https://www.sophiapartners.org/event/coffee-conversation/
LOCATION:Online
END:VEVENT
BEGIN:VEVENT
DTSTART;TZID=America/Chicago:20200408T030000
DTEND;TZID=America/Chicago:20200408T070000
DTSTAMP:20260420T201539
CREATED:20200103T032047Z
LAST-MODIFIED:20200103T032047Z
UID:10000161-1586314800-1586329200@www.sophiapartners.org
SUMMARY:Leadership Learning Circle Series (Spring 2020; 3 of 4)
DESCRIPTION:
URL:https://www.sophiapartners.org/event/leadership-learning-circle-series-spring-2020-3-of-4/
LOCATION:Fond du Lac YMCA\, 90 W 2nd Street\, Fond du Lac\, WI\, 54935\, United States
END:VEVENT
BEGIN:VEVENT
DTSTART;TZID=America/Chicago:20200324T063000
DTEND;TZID=America/Chicago:20200324T073000
DTSTAMP:20260420T201539
CREATED:20200103T043141Z
LAST-MODIFIED:20200323T233407Z
UID:10000165-1585031400-1585035000@www.sophiapartners.org
SUMMARY:Leaders Do Lunch – ONLINE only
DESCRIPTION:Monthly topical leadership conversations on the 4th Tuesday of the month. People have told us that these sessions strengthen their leadership skills and\, more importantly\, give them the energy and ideas that they can use personally and thrive in their leadership roles. \n  \nTo RSVP visit:  https://www.eventbrite.com/e/leaders-do-lunch-online-tickets-100328134150 \n  \nJoin Zoom Meeting\nhttps://zoom.us/j/946378463?pwd=SlJyZ0NSdW45RmJucWcwaXpCMndHdz09 \nMeeting ID: 946 378 463 \n  \nNote: if you do not have a camera or microphone on your computer\, or you prefer to call-in\, please use one of the phone numbers below.  \n +13126266799 US (Chicago)  \n+16465588656 US (New York)  \nMeeting ID: 946 378 463 #  \nFees may apply.
URL:https://www.sophiapartners.org/event/leaders-do-lunch/
LOCATION:Online
END:VEVENT
BEGIN:VEVENT
DTSTART;TZID=America/Chicago:20200320T023000
DTEND;TZID=America/Chicago:20200320T033000
DTSTAMP:20260420T201539
CREATED:20200103T030005Z
LAST-MODIFIED:20200319T005823Z
UID:10000151-1584671400-1584675000@www.sophiapartners.org
SUMMARY:Coffee + Conversation – ONLINE only
DESCRIPTION:Monthly topical leadership conversations on the3rd Friday of the month. People have told us that these sessions strengthen their leadership skills and\, more importantly\, give them the energy and ideas that they can use personally and thrive in their leadership roles. \nJoin Zoom Meeting\nhttps://zoom.us/j/813407257 \nMeeting ID: 813 407 257 \nOne tap mobile\n+16465588656\,\,813407257# US (New York)\n+13126266799\,\,813407257# US (Chicago)
URL:https://www.sophiapartners.org/event/coffee-conversation-mar-20/
LOCATION:Online
END:VEVENT
BEGIN:VEVENT
DTSTART;TZID=America/Chicago:20200311T030000
DTEND;TZID=America/Chicago:20200311T070000
DTSTAMP:20260420T201539
CREATED:20200103T031950Z
LAST-MODIFIED:20200103T031950Z
UID:10000160-1583895600-1583910000@www.sophiapartners.org
SUMMARY:Leadership Learning Circle Series (Spring 2020; 2 of 4)
DESCRIPTION:
URL:https://www.sophiapartners.org/event/leadership-learning-circle-series-spring-2020-2-of-4/
LOCATION:Fond du Lac YMCA\, 90 W 2nd Street\, Fond du Lac\, WI\, 54935\, United States
END:VEVENT
BEGIN:VEVENT
DTSTART;TZID=America/Chicago:20200225T053000
DTEND;TZID=America/Chicago:20200225T063000
DTSTAMP:20260420T201539
CREATED:20200103T043106Z
LAST-MODIFIED:20200103T043106Z
UID:10000164-1582608600-1582612200@www.sophiapartners.org
SUMMARY:Leaders Do Lunch
DESCRIPTION:
URL:https://www.sophiapartners.org/event/leaders-do-lunch-02-20/
LOCATION:Fond du Lac Public Library\, 32 Sheboygan Street\, Fond du Lac\, WI\, 54935\, United States
END:VEVENT
BEGIN:VEVENT
DTSTART;TZID=America/Chicago:20200221T010000
DTEND;TZID=America/Chicago:20200221T023000
DTSTAMP:20260420T201539
CREATED:20200103T025901Z
LAST-MODIFIED:20200103T030318Z
UID:10000150-1582246800-1582252200@www.sophiapartners.org
SUMMARY:Coffee + Conversation
DESCRIPTION:
URL:https://www.sophiapartners.org/event/coffee-conversation-feb-20/
LOCATION:Online
END:VEVENT
BEGIN:VEVENT
DTSTART;TZID=America/Chicago:20200212T020000
DTEND;TZID=America/Chicago:20200212T060000
DTSTAMP:20260420T201539
CREATED:20200103T031844Z
LAST-MODIFIED:20200103T031844Z
UID:10000159-1581472800-1581487200@www.sophiapartners.org
SUMMARY:Leadership Learning Circle Series (Spring 2020; 1 of 4)
DESCRIPTION:
URL:https://www.sophiapartners.org/event/leadership-learning-circle-series-spring-2020-1-of-4/
LOCATION:Fond du Lac YMCA\, 90 W 2nd Street\, Fond du Lac\, WI\, 54935\, United States
END:VEVENT
BEGIN:VEVENT
DTSTART;TZID=America/Chicago:20200128T053000
DTEND;TZID=America/Chicago:20200128T063000
DTSTAMP:20260420T201539
CREATED:20200103T042241Z
LAST-MODIFIED:20200103T043005Z
UID:10000163-1580189400-1580193000@www.sophiapartners.org
SUMMARY:Leaders Do Lunch
DESCRIPTION:
URL:https://www.sophiapartners.org/event/leaders-do-lunch-01-20/
LOCATION:Fond du Lac Public Library\, 32 Sheboygan Street\, Fond du Lac\, WI\, 54935\, United States
END:VEVENT
BEGIN:VEVENT
DTSTART;TZID=America/Chicago:20200117T010000
DTEND;TZID=America/Chicago:20200117T023000
DTSTAMP:20260420T201539
CREATED:20200103T025432Z
LAST-MODIFIED:20200103T030339Z
UID:10000149-1579222800-1579228200@www.sophiapartners.org
SUMMARY:Coffee + Conversation
DESCRIPTION:
URL:https://www.sophiapartners.org/event/coffee-conversation-jan-20/
LOCATION:Online
END:VEVENT
BEGIN:VEVENT
DTSTART;TZID=America/Chicago:20191220T010000
DTEND;TZID=America/Chicago:20191220T143000
DTSTAMP:20260420T201539
CREATED:20190729T164704Z
LAST-MODIFIED:20190729T164720Z
UID:10000146-1576803600-1576852200@www.sophiapartners.org
SUMMARY:Coffee + Conversation
DESCRIPTION:
URL:https://www.sophiapartners.org/event/coffee-conversation-dec-19/
LOCATION:Online
END:VEVENT
BEGIN:VEVENT
DTSTART;TZID=America/Chicago:20191217T023000
DTEND;TZID=America/Chicago:20191217T060000
DTSTAMP:20260420T201539
CREATED:20190729T164328Z
LAST-MODIFIED:20190729T164734Z
UID:10000142-1576549800-1576562400@www.sophiapartners.org
SUMMARY:Leadership Learning Circle\, Fall Series (4 of 4)
DESCRIPTION:
URL:https://www.sophiapartners.org/event/leadership-learning-circle-fall-series-4-of-4/
LOCATION:Fond du Lac Airport\, 260 S. Rolling Meadows Drive\, Fond du Lac\, WI\, 54935\, United States
END:VEVENT
BEGIN:VEVENT
DTSTART;TZID=America/Chicago:20191126T053000
DTEND;TZID=America/Chicago:20191126T063000
DTSTAMP:20260420T201539
CREATED:20191017T225629Z
LAST-MODIFIED:20191109T010702Z
UID:10000147-1574746200-1574749800@www.sophiapartners.org
SUMMARY:NEW:  Leaders Do Lunch
DESCRIPTION:By popular demand…Sophia is piloting a lunch-time version of its Servant Leadership Community of Practice (Coffee & Conversation).  Bring your lunch and join your peers from the greater Fond du Lac area in topical learning discussions about the practice of servant leadership.  Sessions will be held the 4th Tuesday of November 2019 and monthly beginning in 2020.  Meetings will be held at the Fond du Lac Public Library (lower level) Mid-States Room.  This event is open to anyone who wants to learn about and grow as a servant-leader.  RSVP:  steve@sophiapartners.org.
URL:https://www.sophiapartners.org/event/new-leaders-do-lunch/
LOCATION:Fond du Lac Public Library\, 32 Sheboygan Street\, Fond du Lac\, WI\, 54935\, United States
END:VEVENT
BEGIN:VEVENT
DTSTART;TZID=America/Chicago:20191119T023000
DTEND;TZID=America/Chicago:20191119T060000
DTSTAMP:20260420T201539
CREATED:20190729T164249Z
LAST-MODIFIED:20190729T164249Z
UID:10000141-1574130600-1574143200@www.sophiapartners.org
SUMMARY:Leadership Learning Circle\, Fall Series (3 of 4)
DESCRIPTION:
URL:https://www.sophiapartners.org/event/leadership-learning-circle-fall-series-3-of-4/
LOCATION:Fond du Lac Airport\, 260 S. Rolling Meadows Drive\, Fond du Lac\, WI\, 54935\, United States
END:VEVENT
BEGIN:VEVENT
DTSTART;TZID=America/Chicago:20191115T010000
DTEND;TZID=America/Chicago:20191115T143000
DTSTAMP:20260420T201539
CREATED:20190729T164558Z
LAST-MODIFIED:20190729T164558Z
UID:10000145-1573779600-1573828200@www.sophiapartners.org
SUMMARY:Coffee + Conversation
DESCRIPTION:
URL:https://www.sophiapartners.org/event/coffee-conversation-4/
LOCATION:Online
END:VEVENT
BEGIN:VEVENT
DTSTART;TZID=America/Chicago:20191018T020000
DTEND;TZID=America/Chicago:20191018T153000
DTSTAMP:20260420T201539
CREATED:20190729T164518Z
LAST-MODIFIED:20190729T164518Z
UID:10000144-1571364000-1571412600@www.sophiapartners.org
SUMMARY:Coffee + Conversation
DESCRIPTION:
URL:https://www.sophiapartners.org/event/coffee-conversation-3/
LOCATION:Online
END:VEVENT
BEGIN:VEVENT
DTSTART;TZID=America/Chicago:20191015T033000
DTEND;TZID=America/Chicago:20191015T063000
DTSTAMP:20260420T201539
CREATED:20190729T163827Z
LAST-MODIFIED:20190731T235025Z
UID:10000140-1571110200-1571121000@www.sophiapartners.org
SUMMARY:Leadership Learning Circle\, Fall Series (2 of 4)
DESCRIPTION:
URL:https://www.sophiapartners.org/event/leadership-learning-circle-fall-series-2-of-4/
LOCATION:Fond du Lac Airport\, 260 S. Rolling Meadows Drive\, Fond du Lac\, WI\, 54935\, United States
END:VEVENT
BEGIN:VEVENT
DTSTART;TZID=America/Chicago:20190926T030000
DTEND;TZID=America/Chicago:20190926T070000
DTSTAMP:20260420T201539
CREATED:20190712T012339Z
LAST-MODIFIED:20190802T165446Z
UID:10000137-1569466800-1569481200@www.sophiapartners.org
SUMMARY:Leadership Oshkosh (closed group)
DESCRIPTION:Strengths-based leadership facilitation for members of the 2019-2020 Leadership Oshkosh program.
URL:https://www.sophiapartners.org/event/leadership-oshkosh-closed-group/
END:VEVENT
BEGIN:VEVENT
DTSTART;TZID=America/Chicago:20190920T020000
DTEND;TZID=America/Chicago:20190920T033000
DTSTAMP:20260420T201539
CREATED:20190729T164435Z
LAST-MODIFIED:20190729T164435Z
UID:10000143-1568944800-1568950200@www.sophiapartners.org
SUMMARY:Coffee + Conversation
DESCRIPTION:
URL:https://www.sophiapartners.org/event/coffee-conversation-2/
LOCATION:Online
END:VEVENT
BEGIN:VEVENT
DTSTART;TZID=America/Chicago:20190917T033000
DTEND;TZID=America/Chicago:20190917T070000
DTSTAMP:20260420T201539
CREATED:20190712T012858Z
LAST-MODIFIED:20190729T164158Z
UID:10000138-1568691000-1568703600@www.sophiapartners.org
SUMMARY:Leadership Learning Circle\, Fall Series (1 of 4)
DESCRIPTION:
URL:https://www.sophiapartners.org/event/leadership-learning-circle-fall-series-1-of-4/
LOCATION:Fond du Lac Airport\, 260 S. Rolling Meadows Drive\, Fond du Lac\, WI\, 54935\, United States
END:VEVENT
BEGIN:VEVENT
DTSTART;TZID=America/Chicago:20190816T020000
DTEND;TZID=America/Chicago:20190816T033000
DTSTAMP:20260420T201539
CREATED:20190701T213520Z
LAST-MODIFIED:20190816T203438Z
UID:10000139-1565920800-1565926200@www.sophiapartners.org
SUMMARY:Coffee + Conversation: LEGO® Serious Play + Leadership Lessons
DESCRIPTION:
URL:https://www.sophiapartners.org/event/coffee-conversation-aug-19/
LOCATION:Online
END:VEVENT
END:VCALENDAR