BEGIN:VCALENDAR
VERSION:2.0
PRODID:-//Sophia Partners - ECPv6.15.20//NONSGML v1.0//EN
CALSCALE:GREGORIAN
METHOD:PUBLISH
X-ORIGINAL-URL:https://www.sophiapartners.org
X-WR-CALDESC:Events for Sophia Partners
REFRESH-INTERVAL;VALUE=DURATION:PT1H
X-Robots-Tag:noindex
X-PUBLISHED-TTL:PT1H
BEGIN:VTIMEZONE
TZID:America/Chicago
BEGIN:DAYLIGHT
TZOFFSETFROM:-0600
TZOFFSETTO:-0500
TZNAME:CDT
DTSTART:20240310T080000
END:DAYLIGHT
BEGIN:STANDARD
TZOFFSETFROM:-0500
TZOFFSETTO:-0600
TZNAME:CST
DTSTART:20241103T070000
END:STANDARD
BEGIN:DAYLIGHT
TZOFFSETFROM:-0600
TZOFFSETTO:-0500
TZNAME:CDT
DTSTART:20250309T080000
END:DAYLIGHT
BEGIN:STANDARD
TZOFFSETFROM:-0500
TZOFFSETTO:-0600
TZNAME:CST
DTSTART:20251102T070000
END:STANDARD
BEGIN:DAYLIGHT
TZOFFSETFROM:-0600
TZOFFSETTO:-0500
TZNAME:CDT
DTSTART:20260308T080000
END:DAYLIGHT
BEGIN:STANDARD
TZOFFSETFROM:-0500
TZOFFSETTO:-0600
TZNAME:CST
DTSTART:20261101T070000
END:STANDARD
END:VTIMEZONE
BEGIN:VEVENT
DTSTART;TZID=America/Chicago:20250123T073000
DTEND;TZID=America/Chicago:20250123T123000
DTSTAMP:20260425T100241
CREATED:20241210T164522Z
LAST-MODIFIED:20250109T144308Z
UID:10000419-1737617400-1737635400@www.sophiapartners.org
SUMMARY:FABOH Wellness Conference
DESCRIPTION:20th Annual Wellness Conference\nFond du Lac Area Businesses on Health (FABOH) is offering a half-day conference on wellness in the workplace at the Radisson Conference Center on Thursday\, January 23\, 2025. Register today for an engaging morning of speakers! \nDate:  Thursday\, January 23th\, 2025 \nLocation: Radisson Hotel and Conference Center\, Fond du Lac \nTime:  7:30 am – 12:30 pm \nPresenters: \n\nTed Neitzke – Employee Engagement and Continuous Improvement Within a Generationally Diverse Workplace\nMissy Tate – Caring for our Community: Supporting Well-being for our Patients and Employees\nShawn Gulyas – Moments that Matter\nCarley Hoelzel – Wellness Council of Wisconsin (WCWI) Update\n\nSee More Info about Presenters Here. \nRegistration Details\nPre-registration is required. FABOH members can attend the workshop for free. For non-members\, the individual workshop is $30/participant. Deadline to register: Friday\, January 17\, 2025 \nChecks Payable to:\nFABOH ~ 21 E. 2nd Street\, Suite 101\nFond du Lac\, WI 54935\n*Cash or Check Only \nTo register\, email Tammy Stephany at office@faboh.com or call: 920.924.3780
URL:https://www.sophiapartners.org/event/faboh-wellness-conference-3/
LOCATION:Radisson Conference Center\, 625 Rolling Meadows Drive\, Fond du Lac\, 54935\, United States
CATEGORIES:Community Partner Events,In-person
ATTACH;FMTTYPE=image/png:https://www.sophiapartners.org/wp-content/uploads/2023/01/FABOH2.png
END:VEVENT
BEGIN:VEVENT
DTSTART;TZID=America/Chicago:20250130T073000
DTEND;TZID=America/Chicago:20250130T130000
DTSTAMP:20260425T100241
CREATED:20241126T144609Z
LAST-MODIFIED:20250127T153252Z
UID:10000418-1738222200-1738242000@www.sophiapartners.org
SUMMARY:Board Leadership Workshop
DESCRIPTION:This event is in partnership with the Fond du Lac Area Women’s Fund and made possible\, in part\, through a grant from the Green Bay Packers Foundation. \nDate: Thursday January 30\, 2025 \nLocation: Marian University\, Stayer Center Dining Room \nSchedule: \n\nNetworking & light breakfast: 7:30 am – 8:00 am\nWorkshop – The Secret Sauce for High Performing Boards: 8:00 am – 11:45 am\nBreak: 11:45 am – 12:00 pm\nLunch with the Speaker (optional) – The Call for Women Leaders in the Board Room: 12:00 pm – 1:00 pm\n\nClick Here for Shareable Flyer.\n\nRegistration Options: Register HERE!\n\nWorkshop Only: $15\nStudent: $0\nWorkshop + Lunch: $35; Lunch Only: $25 (SOLD OUT)\n\nWhy Attend?\nIn the nonprofit world\, effective board leadership can make all the difference. This workshop is\nyour chance to connect with like-minded leaders in the Fond du Lac area and offers a unique\nopportunity to deepen your knowledge\, enhance your leadership skills\, and empower your board\nto thrive. \nWhat You’ll Gain:\n\nInsights into Excellence: Explore the practices that distinguish high-performing boards\nin today’s fast-paced\, ever-changing world.\nLeadership Growth: Challenge yourself and your peers to elevate your leadership\nimpact\, fostering a culture of innovation and collaboration.\nActionable Tools: Walk away with practical strategies and tools you can implement\nimmediately to drive measurable results for your organization.\n\nWorkshop Facilitator\nThis workshop will be facilitated by Susan Meier\, Principal at Susan Meier and Associates\, LLC and Senior Governance Consultant with BoardSource (2004-2020). Susan brings over 30 years of governance and nonprofit experience to her work. She works collaboratively with nonprofit executives and board leadership to identify governance challenges and opportunities and to implement proven strategies to address a broad array of governance issues. \nSusan has served on a number of boards of directors in leadership positions and currently\nserves on the Ripon College Board of Trustees. She is the author of the BoardSource publication The Board-Building Cycle: Finding\, Engaging\, and Strengthening Nonprofit Board Members\, Third Edition. \nAre you ready to take your nonprofit board to the next level? Unlock the Secret Sauce of High-Performing Boards!
URL:https://www.sophiapartners.org/event/board-leadership-workshop/
LOCATION:Marian University\, 45 S National Ave\, Fond du Lac\, WI\, 54935\, United States
CATEGORIES:Community Partner Events,In-person
ATTACH;FMTTYPE=image/png:https://www.sophiapartners.org/wp-content/uploads/2024/11/Jan-30-Event_cover.png
END:VEVENT
END:VCALENDAR